BEGIN:VCALENDAR
VERSION:2.0
PRODID:-//Welcome to St Mary and All Saints - ECPv6.15.20//NONSGML v1.0//EN
CALSCALE:GREGORIAN
METHOD:PUBLISH
X-WR-CALNAME:Welcome to St Mary and All Saints
X-ORIGINAL-URL:https://binghamparishchurch.org.uk
X-WR-CALDESC:Events for Welcome to St Mary and All Saints
REFRESH-INTERVAL;VALUE=DURATION:PT1H
X-Robots-Tag:noindex
X-PUBLISHED-TTL:PT1H
BEGIN:VTIMEZONE
TZID:Europe/London
BEGIN:DAYLIGHT
TZOFFSETFROM:+0000
TZOFFSETTO:+0100
TZNAME:BST
DTSTART:20190331T010000
END:DAYLIGHT
BEGIN:STANDARD
TZOFFSETFROM:+0100
TZOFFSETTO:+0000
TZNAME:GMT
DTSTART:20191027T010000
END:STANDARD
BEGIN:DAYLIGHT
TZOFFSETFROM:+0000
TZOFFSETTO:+0100
TZNAME:BST
DTSTART:20200329T010000
END:DAYLIGHT
BEGIN:STANDARD
TZOFFSETFROM:+0100
TZOFFSETTO:+0000
TZNAME:GMT
DTSTART:20201025T010000
END:STANDARD
BEGIN:DAYLIGHT
TZOFFSETFROM:+0000
TZOFFSETTO:+0100
TZNAME:BST
DTSTART:20210328T010000
END:DAYLIGHT
BEGIN:STANDARD
TZOFFSETFROM:+0100
TZOFFSETTO:+0000
TZNAME:GMT
DTSTART:20211031T010000
END:STANDARD
END:VTIMEZONE
BEGIN:VEVENT
DTSTART;TZID=Europe/London:20201028T130000
DTEND;TZID=Europe/London:20201028T140000
DTSTAMP:20260424T163412
CREATED:20200613T172525Z
LAST-MODIFIED:20201024T195709Z
UID:4147-1603890000-1603893600@binghamparishchurch.org.uk
SUMMARY:Church open for Private Prayer
DESCRIPTION:In preparation for the church opening for worship on a Sunday\, the church will now be open between 1pm and 2pm on a Wednesday\, for Private Prayer. \nPlease check the News section of the website and Facebook page for the latest information. \nThanks
URL:https://binghamparishchurch.org.uk/event/planned-church-re-opening-date-for-private-prayer-only-2020-09-03-2020-10-28/
LOCATION:ST MARY & ALL SAINTS CHURCH\, Church Street\, Bingham\, Nottinghamshire\, NG13 8AL\, United Kingdom
CATEGORIES:Church News
END:VEVENT
BEGIN:VEVENT
DTSTART;TZID=Europe/London:20201025T110000
DTEND;TZID=Europe/London:20201025T120000
DTSTAMP:20260424T163412
CREATED:20201004T175205Z
LAST-MODIFIED:20201004T175312Z
UID:4158-1603623600-1603627200@binghamparishchurch.org.uk
SUMMARY:Annual Parochial Church Meeting
DESCRIPTION:The Annual Parochial Church Meeting will follow Sunday Worship and Communion Service on the 25th October 2020. \nIf you wish to attend the meeting\, then please book in to attend the service prior to the meeting. \nIf you can’t make the meeting you can request our annual reports by emailing Wendy Forbes Buckingham. Also\, any questions can be submitted before the APCM to our Rector Jon\, the Wardens and the Treasurer\, all contact details on page 23 of the September edition of The Butter Cross magazine.
URL:https://binghamparishchurch.org.uk/event/annual-parochial-church-meeting-2/
LOCATION:ST MARY & ALL SAINTS CHURCH\, Church Street\, Bingham\, Nottinghamshire\, NG13 8AL\, United Kingdom
CATEGORIES:Church Event,Church News
ATTACH;FMTTYPE=image/jpeg:https://binghamparishchurch.org.uk/wp-content/uploads/2019/03/Bingham-Parish-Church.jpg
END:VEVENT
BEGIN:VEVENT
DTSTART;TZID=Europe/London:20201025T100000
DTEND;TZID=Europe/London:20201025T110000
DTSTAMP:20260424T163412
CREATED:20200815T173308Z
LAST-MODIFIED:20201024T195857Z
UID:4056-1603620000-1603623600@binghamparishchurch.org.uk
SUMMARY:Communion Service in Church - Booking Required
DESCRIPTION:Starting on Sunday\, 6th September 2020\, and in line with Government and Church of England requirements\, it is planned to re-open our Church for a regular Sunday service. \nThe 4th Sunday of the month will be a communion service. \nPlease see this news item for details of arrangements and how to book in.
URL:https://binghamparishchurch.org.uk/event/communion-service-in-church-booking-required-2020-10-25/
CATEGORIES:Holy Communion
END:VEVENT
BEGIN:VEVENT
DTSTART;TZID=Europe/London:20201021T130000
DTEND;TZID=Europe/London:20201021T140000
DTSTAMP:20260424T163412
CREATED:20200613T172525Z
LAST-MODIFIED:20201024T195709Z
UID:4146-1603285200-1603288800@binghamparishchurch.org.uk
SUMMARY:Church open for Private Prayer
DESCRIPTION:In preparation for the church opening for worship on a Sunday\, the church will now be open between 1pm and 2pm on a Wednesday\, for Private Prayer. \nPlease check the News section of the website and Facebook page for the latest information. \nThanks
URL:https://binghamparishchurch.org.uk/event/planned-church-re-opening-date-for-private-prayer-only-2020-09-03-2020-10-21/
LOCATION:ST MARY & ALL SAINTS CHURCH\, Church Street\, Bingham\, Nottinghamshire\, NG13 8AL\, United Kingdom
CATEGORIES:Church News
END:VEVENT
BEGIN:VEVENT
DTSTART;TZID=Europe/London:20201018T100000
DTEND;TZID=Europe/London:20201018T110000
DTSTAMP:20260424T163412
CREATED:20200815T172856Z
LAST-MODIFIED:20201024T200048Z
UID:4053-1603015200-1603018800@binghamparishchurch.org.uk
SUMMARY:Sunday Worship in Church - Booking Required
DESCRIPTION:Starting on Sunday\, 6th September 2020\, and in line with Government and Church of England requirements\, it is planned to re-open our Church for a regular Sunday service. \nPlease see this news item for details of arrangements and how to book in.
URL:https://binghamparishchurch.org.uk/event/sunday-worship-in-church-booking-required-2020-10-18/
LOCATION:ST MARY & ALL SAINTS CHURCH\, Church Street\, Bingham\, Nottinghamshire\, NG13 8AL\, United Kingdom
CATEGORIES:Church News,Church Services,Family Worship
END:VEVENT
BEGIN:VEVENT
DTSTART;TZID=Europe/London:20201014T130000
DTEND;TZID=Europe/London:20201014T140000
DTSTAMP:20260424T163412
CREATED:20200613T172525Z
LAST-MODIFIED:20201024T195709Z
UID:4145-1602680400-1602684000@binghamparishchurch.org.uk
SUMMARY:Church open for Private Prayer
DESCRIPTION:In preparation for the church opening for worship on a Sunday\, the church will now be open between 1pm and 2pm on a Wednesday\, for Private Prayer. \nPlease check the News section of the website and Facebook page for the latest information. \nThanks
URL:https://binghamparishchurch.org.uk/event/planned-church-re-opening-date-for-private-prayer-only-2020-09-03-2020-10-14/
LOCATION:ST MARY & ALL SAINTS CHURCH\, Church Street\, Bingham\, Nottinghamshire\, NG13 8AL\, United Kingdom
CATEGORIES:Church News
END:VEVENT
BEGIN:VEVENT
DTSTART;TZID=Europe/London:20201012T140000
DTEND;TZID=Europe/London:20201012T160000
DTSTAMP:20260424T163412
CREATED:20200221T220457Z
LAST-MODIFIED:20200906T221233Z
UID:3156-1602511200-1602518400@binghamparishchurch.org.uk
SUMMARY:Mothers' Union - Meeting Postponed
DESCRIPTION:A history of stained glass windows – This meeting has been postponed
URL:https://binghamparishchurch.org.uk/event/mothers-union-13/
LOCATION:Old Church House\, East Street\, Bingham\, NG13 8DR
CATEGORIES:Mothers' Union
END:VEVENT
BEGIN:VEVENT
DTSTART;TZID=Europe/London:20201011T100000
DTEND;TZID=Europe/London:20201011T110000
DTSTAMP:20260424T163412
CREATED:20200815T172856Z
LAST-MODIFIED:20201024T200048Z
UID:4052-1602410400-1602414000@binghamparishchurch.org.uk
SUMMARY:Sunday Worship in Church - Booking Required
DESCRIPTION:Starting on Sunday\, 6th September 2020\, and in line with Government and Church of England requirements\, it is planned to re-open our Church for a regular Sunday service. \nPlease see this news item for details of arrangements and how to book in.
URL:https://binghamparishchurch.org.uk/event/sunday-worship-in-church-booking-required-2020-10-11/
LOCATION:ST MARY & ALL SAINTS CHURCH\, Church Street\, Bingham\, Nottinghamshire\, NG13 8AL\, United Kingdom
CATEGORIES:Church News,Church Services,Family Worship
END:VEVENT
BEGIN:VEVENT
DTSTART;TZID=Europe/London:20201007T130000
DTEND;TZID=Europe/London:20201007T140000
DTSTAMP:20260424T163412
CREATED:20200613T172525Z
LAST-MODIFIED:20201024T195708Z
UID:4144-1602075600-1602079200@binghamparishchurch.org.uk
SUMMARY:Church open for Private Prayer
DESCRIPTION:In preparation for the church opening for worship on a Sunday\, the church will now be open between 1pm and 2pm on a Wednesday\, for Private Prayer. \nPlease check the News section of the website and Facebook page for the latest information. \nThanks
URL:https://binghamparishchurch.org.uk/event/planned-church-re-opening-date-for-private-prayer-only-2020-09-03-2020-10-07/
LOCATION:ST MARY & ALL SAINTS CHURCH\, Church Street\, Bingham\, Nottinghamshire\, NG13 8AL\, United Kingdom
CATEGORIES:Church News
END:VEVENT
BEGIN:VEVENT
DTSTART;TZID=Europe/London:20201004T100000
DTEND;TZID=Europe/London:20201004T110000
DTSTAMP:20260424T163412
CREATED:20200815T172856Z
LAST-MODIFIED:20201024T200039Z
UID:4051-1601805600-1601809200@binghamparishchurch.org.uk
SUMMARY:Sunday Worship in Church - Booking Required
DESCRIPTION:Starting on Sunday\, 6th September 2020\, and in line with Government and Church of England requirements\, it is planned to re-open our Church for a regular Sunday service. \nPlease see this news item for details of arrangements and how to book in.
URL:https://binghamparishchurch.org.uk/event/sunday-worship-in-church-booking-required-2020-10-04/
LOCATION:ST MARY & ALL SAINTS CHURCH\, Church Street\, Bingham\, Nottinghamshire\, NG13 8AL\, United Kingdom
CATEGORIES:Church News,Church Services,Family Worship
END:VEVENT
BEGIN:VEVENT
DTSTART;TZID=Europe/London:20200930T193000
DTEND;TZID=Europe/London:20200930T203000
DTSTAMP:20260424T163412
CREATED:20200516T164220Z
LAST-MODIFIED:20200516T164220Z
UID:4077-1601494200-1601497800@binghamparishchurch.org.uk
SUMMARY:Bible Study by Email
DESCRIPTION:If you would like to join our current Bible study on Roman’s\, then please email Jon\, our Rector for more information. \nEmail address at the end of this page.
URL:https://binghamparishchurch.org.uk/event/bible-study-by-email-2020-09-30/
LOCATION:Online
CATEGORIES:Bible Study
END:VEVENT
BEGIN:VEVENT
DTSTART;TZID=Europe/London:20200930T130000
DTEND;TZID=Europe/London:20200930T140000
DTSTAMP:20260424T163412
CREATED:20200613T172525Z
LAST-MODIFIED:20201024T195708Z
UID:4099-1601470800-1601474400@binghamparishchurch.org.uk
SUMMARY:Church open for Private Prayer
DESCRIPTION:In preparation for the church opening for worship on a Sunday\, the church will now be open between 1pm and 2pm on a Wednesday\, for Private Prayer. \nPlease check the News section of the website and Facebook page for the latest information. \nThanks
URL:https://binghamparishchurch.org.uk/event/planned-church-re-opening-date-for-private-prayer-only-2020-09-03-2020-09-30/
LOCATION:ST MARY & ALL SAINTS CHURCH\, Church Street\, Bingham\, Nottinghamshire\, NG13 8AL\, United Kingdom
CATEGORIES:Church News
END:VEVENT
BEGIN:VEVENT
DTSTART;TZID=Europe/London:20200927T100000
DTEND;TZID=Europe/London:20200927T110000
DTSTAMP:20260424T163412
CREATED:20200815T173308Z
LAST-MODIFIED:20201024T195857Z
UID:4054-1601200800-1601204400@binghamparishchurch.org.uk
SUMMARY:Communion Service in Church - Booking Required
DESCRIPTION:Starting on Sunday\, 6th September 2020\, and in line with Government and Church of England requirements\, it is planned to re-open our Church for a regular Sunday service. \nThe 4th Sunday of the month will be a communion service. \nPlease see this news item for details of arrangements and how to book in.
URL:https://binghamparishchurch.org.uk/event/communion-service-in-church-booking-required/
CATEGORIES:Holy Communion
END:VEVENT
BEGIN:VEVENT
DTSTART;TZID=Europe/London:20200923T193000
DTEND;TZID=Europe/London:20200923T203000
DTSTAMP:20260424T163412
CREATED:20200516T164220Z
LAST-MODIFIED:20200516T164220Z
UID:4076-1600889400-1600893000@binghamparishchurch.org.uk
SUMMARY:Bible Study by Email
DESCRIPTION:If you would like to join our current Bible study on Roman’s\, then please email Jon\, our Rector for more information. \nEmail address at the end of this page.
URL:https://binghamparishchurch.org.uk/event/bible-study-by-email-2020-09-23/
LOCATION:Online
CATEGORIES:Bible Study
END:VEVENT
BEGIN:VEVENT
DTSTART;TZID=Europe/London:20200923T130000
DTEND;TZID=Europe/London:20200923T140000
DTSTAMP:20260424T163412
CREATED:20200613T172525Z
LAST-MODIFIED:20201024T195702Z
UID:4098-1600866000-1600869600@binghamparishchurch.org.uk
SUMMARY:Church open for Private Prayer
DESCRIPTION:In preparation for the church opening for worship on a Sunday\, the church will now be open between 1pm and 2pm on a Wednesday\, for Private Prayer. \nPlease check the News section of the website and Facebook page for the latest information. \nThanks
URL:https://binghamparishchurch.org.uk/event/planned-church-re-opening-date-for-private-prayer-only-2020-09-03-2020-09-23/
LOCATION:ST MARY & ALL SAINTS CHURCH\, Church Street\, Bingham\, Nottinghamshire\, NG13 8AL\, United Kingdom
CATEGORIES:Church News
END:VEVENT
BEGIN:VEVENT
DTSTART;TZID=Europe/London:20200920T100000
DTEND;TZID=Europe/London:20200920T110000
DTSTAMP:20260424T163412
CREATED:20200815T172856Z
LAST-MODIFIED:20201024T200039Z
UID:4050-1600596000-1600599600@binghamparishchurch.org.uk
SUMMARY:Sunday Worship in Church - Booking Required
DESCRIPTION:Starting on Sunday\, 6th September 2020\, and in line with Government and Church of England requirements\, it is planned to re-open our Church for a regular Sunday service. \nPlease see this news item for details of arrangements and how to book in.
URL:https://binghamparishchurch.org.uk/event/sunday-worship-in-church-booking-required-2020-09-20/
LOCATION:ST MARY & ALL SAINTS CHURCH\, Church Street\, Bingham\, Nottinghamshire\, NG13 8AL\, United Kingdom
CATEGORIES:Church News,Church Services,Family Worship
END:VEVENT
BEGIN:VEVENT
DTSTART;TZID=Europe/London:20200916T193000
DTEND;TZID=Europe/London:20200916T203000
DTSTAMP:20260424T163412
CREATED:20200516T164220Z
LAST-MODIFIED:20200516T164220Z
UID:4075-1600284600-1600288200@binghamparishchurch.org.uk
SUMMARY:Bible Study by Email
DESCRIPTION:If you would like to join our current Bible study on Roman’s\, then please email Jon\, our Rector for more information. \nEmail address at the end of this page.
URL:https://binghamparishchurch.org.uk/event/bible-study-by-email-2020-09-16/
LOCATION:Online
CATEGORIES:Bible Study
END:VEVENT
BEGIN:VEVENT
DTSTART;TZID=Europe/London:20200916T130000
DTEND;TZID=Europe/London:20200916T140000
DTSTAMP:20260424T163412
CREATED:20200613T172525Z
LAST-MODIFIED:20201024T195701Z
UID:4097-1600261200-1600264800@binghamparishchurch.org.uk
SUMMARY:Church open for Private Prayer
DESCRIPTION:In preparation for the church opening for worship on a Sunday\, the church will now be open between 1pm and 2pm on a Wednesday\, for Private Prayer. \nPlease check the News section of the website and Facebook page for the latest information. \nThanks
URL:https://binghamparishchurch.org.uk/event/planned-church-re-opening-date-for-private-prayer-only-2020-09-03-2020-09-16/
LOCATION:ST MARY & ALL SAINTS CHURCH\, Church Street\, Bingham\, Nottinghamshire\, NG13 8AL\, United Kingdom
CATEGORIES:Church News
END:VEVENT
BEGIN:VEVENT
DTSTART;TZID=Europe/London:20200914T140000
DTEND;TZID=Europe/London:20200914T160000
DTSTAMP:20260424T163412
CREATED:20200221T220354Z
LAST-MODIFIED:20200707T093013Z
UID:3154-1600092000-1600099200@binghamparishchurch.org.uk
SUMMARY:Mothers' Union - Meeting postponed
DESCRIPTION:St John’s Gospel – This meeting has been postponed
URL:https://binghamparishchurch.org.uk/event/mothers-union-12/
LOCATION:Old Church House\, East Street\, Bingham\, NG13 8DR
CATEGORIES:Mothers' Union
END:VEVENT
BEGIN:VEVENT
DTSTART;TZID=Europe/London:20200913T100000
DTEND;TZID=Europe/London:20200913T110000
DTSTAMP:20260424T163412
CREATED:20200815T172856Z
LAST-MODIFIED:20201024T200039Z
UID:4049-1599991200-1599994800@binghamparishchurch.org.uk
SUMMARY:Sunday Worship in Church - Booking Required
DESCRIPTION:Starting on Sunday\, 6th September 2020\, and in line with Government and Church of England requirements\, it is planned to re-open our Church for a regular Sunday service. \nPlease see this news item for details of arrangements and how to book in.
URL:https://binghamparishchurch.org.uk/event/sunday-worship-in-church-booking-required-2020-09-13/
LOCATION:ST MARY & ALL SAINTS CHURCH\, Church Street\, Bingham\, Nottinghamshire\, NG13 8AL\, United Kingdom
CATEGORIES:Church News,Church Services,Family Worship
END:VEVENT
BEGIN:VEVENT
DTSTART;TZID=Europe/London:20200909T193000
DTEND;TZID=Europe/London:20200909T203000
DTSTAMP:20260424T163412
CREATED:20200516T164220Z
LAST-MODIFIED:20200516T164220Z
UID:4074-1599679800-1599683400@binghamparishchurch.org.uk
SUMMARY:Bible Study by Email
DESCRIPTION:If you would like to join our current Bible study on Roman’s\, then please email Jon\, our Rector for more information. \nEmail address at the end of this page.
URL:https://binghamparishchurch.org.uk/event/bible-study-by-email-2020-09-09/
LOCATION:Online
CATEGORIES:Bible Study
END:VEVENT
BEGIN:VEVENT
DTSTART;TZID=Europe/London:20200909T130000
DTEND;TZID=Europe/London:20200909T140000
DTSTAMP:20260424T163412
CREATED:20200613T172525Z
LAST-MODIFIED:20201024T195701Z
UID:4096-1599656400-1599660000@binghamparishchurch.org.uk
SUMMARY:Church open for Private Prayer
DESCRIPTION:In preparation for the church opening for worship on a Sunday\, the church will now be open between 1pm and 2pm on a Wednesday\, for Private Prayer. \nPlease check the News section of the website and Facebook page for the latest information. \nThanks
URL:https://binghamparishchurch.org.uk/event/planned-church-re-opening-date-for-private-prayer-only-2020-09-03-2020-09-09/
LOCATION:ST MARY & ALL SAINTS CHURCH\, Church Street\, Bingham\, Nottinghamshire\, NG13 8AL\, United Kingdom
CATEGORIES:Church News
END:VEVENT
BEGIN:VEVENT
DTSTART;TZID=Europe/London:20200906T100000
DTEND;TZID=Europe/London:20200906T110000
DTSTAMP:20260424T163412
CREATED:20200815T172856Z
LAST-MODIFIED:20201024T200036Z
UID:4047-1599386400-1599390000@binghamparishchurch.org.uk
SUMMARY:Sunday Worship in Church - Booking Required
DESCRIPTION:Starting on Sunday\, 6th September 2020\, and in line with Government and Church of England requirements\, it is planned to re-open our Church for a regular Sunday service. \nPlease see this news item for details of arrangements and how to book in.
URL:https://binghamparishchurch.org.uk/event/sunday-worship-in-church-booking-required/
LOCATION:ST MARY & ALL SAINTS CHURCH\, Church Street\, Bingham\, Nottinghamshire\, NG13 8AL\, United Kingdom
CATEGORIES:Church News,Church Services,Family Worship
END:VEVENT
BEGIN:VEVENT
DTSTART;TZID=Europe/London:20200902T193000
DTEND;TZID=Europe/London:20200902T203000
DTSTAMP:20260424T163412
CREATED:20200516T164220Z
LAST-MODIFIED:20200516T164220Z
UID:4073-1599075000-1599078600@binghamparishchurch.org.uk
SUMMARY:Bible Study by Email
DESCRIPTION:If you would like to join our current Bible study on Roman’s\, then please email Jon\, our Rector for more information. \nEmail address at the end of this page.
URL:https://binghamparishchurch.org.uk/event/bible-study-by-email-2020-09-02/
LOCATION:Online
CATEGORIES:Bible Study
END:VEVENT
BEGIN:VEVENT
DTSTART;TZID=Europe/London:20200902T130000
DTEND;TZID=Europe/London:20200902T140000
DTSTAMP:20260424T163412
CREATED:20200613T172525Z
LAST-MODIFIED:20201024T195659Z
UID:4060-1599051600-1599055200@binghamparishchurch.org.uk
SUMMARY:Church open for Private Prayer
DESCRIPTION:In preparation for the church opening for worship on a Sunday\, the church will now be open between 1pm and 2pm on a Wednesday\, for Private Prayer. \nPlease check the News section of the website and Facebook page for the latest information. \nThanks
URL:https://binghamparishchurch.org.uk/event/planned-church-re-opening-date-for-private-prayer-only-2020-09-03/
LOCATION:ST MARY & ALL SAINTS CHURCH\, Church Street\, Bingham\, Nottinghamshire\, NG13 8AL\, United Kingdom
CATEGORIES:Church News
END:VEVENT
BEGIN:VEVENT
DTSTART;TZID=Europe/London:20200830T100000
DTEND;TZID=Europe/London:20200830T103000
DTSTAMP:20260424T163412
CREATED:20200516T163158Z
LAST-MODIFIED:20200516T163158Z
UID:3973-1598781600-1598783400@binghamparishchurch.org.uk
SUMMARY:Family Worship - Virtual Service
DESCRIPTION:Please join us in spirit at 10am on a Sunday morning and view our virtual service. \nFull details are available here:  https://binghamparishchurch.org.uk/a-time-for-reflection/
URL:https://binghamparishchurch.org.uk/event/family-worship-virtual-service-2-2020-08-30/
LOCATION:Online
CATEGORIES:Church Services,Online virtual service
ATTACH;FMTTYPE=image/jpeg:https://binghamparishchurch.org.uk/wp-content/uploads/2020/04/2020-04-19-Picture.jpg
END:VEVENT
BEGIN:VEVENT
DTSTART;TZID=Europe/London:20200829T110000
DTEND;TZID=Europe/London:20200829T120000
DTSTAMP:20260424T163412
CREATED:20200815T174628Z
LAST-MODIFIED:20200815T174628Z
UID:4059-1598698800-1598702400@binghamparishchurch.org.uk
SUMMARY:Gift Day at Church
DESCRIPTION:More information about our Gift Days \nDue to current government and Church of England restrictions you’ll notice that services will be very different.  One of the issues is that hymn books\, Bible’s and service sheets won’t be allowed. \nAs a result\, the PCC are looking at having two large LED screens mounted on movable stands as an obvious solution\, not only because of the current situation but also to give us more scope in the future. \nLED displays are becoming more common in churches as they offer advantages over a projection system such as: \n\nText can be read from a greater distance on a smaller screen due to the high contrast and brightness levels\nThere is no filter or lamp to change\nLess fixing to the fabric of the building\nAnd a more flexible solution\n\nIf you would like to be a part of this exciting opportunity\, we are asking church members if they would prayerfully consider contributing towards the overall cost of around £5000. \nI think this is a wonderful opportunity to develop our services and give us more flexibility as we Love God\, Share Christ\, and Serve One Another\, in line with the diocesan vision of Growing Disciples Wider\, Younger\, Deeper. \nIf you would like to donate towards this exciting project we are having two Gift Days\, Thursday August 20th and Saturday August 29th between 11am and 12pm at church\, where you can drop off any donations/pledges (large or small)\, to a team of people who will be available. Donations can also be made before or after these dates by contacting our Rector\, Jon\, for more information.  Contact details at the bottom of this page. \nThank you
URL:https://binghamparishchurch.org.uk/event/gift-day-at-church-2020-08-29/
CATEGORIES:Church Event,Church News,Fundraising
END:VEVENT
BEGIN:VEVENT
DTSTART;TZID=Europe/London:20200827T100000
DTEND;TZID=Europe/London:20200827T110000
DTSTAMP:20260424T163412
CREATED:20200613T172525Z
LAST-MODIFIED:20200815T175016Z
UID:3977-1598522400-1598526000@binghamparishchurch.org.uk
SUMMARY:Church open for Private Prayer
DESCRIPTION:The Rector and Parochial Church Council plan that the church will be open for 1 hour on a Thursday morning\, starting from the 25th June 2020. \nPlease check the News section of the website and Facebook page for the latest information. \nPlease also take the time to watch and listen to this video regarding the arrangements before visiting our church for private prayer. \nThanks
URL:https://binghamparishchurch.org.uk/event/planned-church-re-opening-date-for-private-prayer-only-2020-08-27/
LOCATION:ST MARY & ALL SAINTS CHURCH\, Church Street\, Bingham\, Nottinghamshire\, NG13 8AL\, United Kingdom
CATEGORIES:Church News
END:VEVENT
BEGIN:VEVENT
DTSTART;TZID=Europe/London:20200826T193000
DTEND;TZID=Europe/London:20200826T203000
DTSTAMP:20260424T163412
CREATED:20200516T164220Z
LAST-MODIFIED:20200815T175217Z
UID:3981-1598470200-1598473800@binghamparishchurch.org.uk
SUMMARY:Bible Study by Email
DESCRIPTION:If you would like to join our current Bible study on Roman’s\, then please email Jon\, our Rector for more information. \nEmail address at the end of this page.
URL:https://binghamparishchurch.org.uk/event/bible-study-by-email-2020-08-26/
LOCATION:Online
CATEGORIES:Bible Study
END:VEVENT
BEGIN:VEVENT
DTSTART;TZID=Europe/London:20200823T100000
DTEND;TZID=Europe/London:20200823T103000
DTSTAMP:20260424T163412
CREATED:20200516T163158Z
LAST-MODIFIED:20200516T163158Z
UID:3972-1598176800-1598178600@binghamparishchurch.org.uk
SUMMARY:Family Worship - Virtual Service
DESCRIPTION:Please join us in spirit at 10am on a Sunday morning and view our virtual service. \nFull details are available here:  https://binghamparishchurch.org.uk/a-time-for-reflection/
URL:https://binghamparishchurch.org.uk/event/family-worship-virtual-service-2-2020-08-23/
LOCATION:Online
CATEGORIES:Church Services,Online virtual service
ATTACH;FMTTYPE=image/jpeg:https://binghamparishchurch.org.uk/wp-content/uploads/2020/04/2020-04-19-Picture.jpg
END:VEVENT
END:VCALENDAR