BEGIN:VCALENDAR
VERSION:2.0
PRODID:-//Welcome to St Mary and All Saints - ECPv6.15.20//NONSGML v1.0//EN
CALSCALE:GREGORIAN
METHOD:PUBLISH
X-ORIGINAL-URL:https://binghamparishchurch.org.uk
X-WR-CALDESC:Events for Welcome to St Mary and All Saints
REFRESH-INTERVAL;VALUE=DURATION:PT1H
X-Robots-Tag:noindex
X-PUBLISHED-TTL:PT1H
BEGIN:VTIMEZONE
TZID:Europe/London
BEGIN:DAYLIGHT
TZOFFSETFROM:+0000
TZOFFSETTO:+0100
TZNAME:BST
DTSTART:20180325T010000
END:DAYLIGHT
BEGIN:STANDARD
TZOFFSETFROM:+0100
TZOFFSETTO:+0000
TZNAME:GMT
DTSTART:20181028T010000
END:STANDARD
BEGIN:DAYLIGHT
TZOFFSETFROM:+0000
TZOFFSETTO:+0100
TZNAME:BST
DTSTART:20190331T010000
END:DAYLIGHT
BEGIN:STANDARD
TZOFFSETFROM:+0100
TZOFFSETTO:+0000
TZNAME:GMT
DTSTART:20191027T010000
END:STANDARD
BEGIN:DAYLIGHT
TZOFFSETFROM:+0000
TZOFFSETTO:+0100
TZNAME:BST
DTSTART:20200329T010000
END:DAYLIGHT
BEGIN:STANDARD
TZOFFSETFROM:+0100
TZOFFSETTO:+0000
TZNAME:GMT
DTSTART:20201025T010000
END:STANDARD
END:VTIMEZONE
BEGIN:VEVENT
DTSTART;TZID=Europe/London:20190915T100000
DTEND;TZID=Europe/London:20190915T110000
DTSTAMP:20260423T122122
CREATED:20190820T190958Z
LAST-MODIFIED:20190913T184358Z
UID:2244-1568541600-1568545200@binghamparishchurch.org.uk
SUMMARY:Family Worship led by Bishop Alison White from Hull
DESCRIPTION:We welcome the Rt Rev Alison White\, Bishop of Hull\, to lead this morning’s service\, together with the Carnarvon School Choir. \nThere is a play area for our youngest children. \nThe hymns are on a separate sheet \nTea and coffee are available after this service. \n#Onelifemission
URL:https://binghamparishchurch.org.uk/event/family-worship-12/
LOCATION:ST MARY & ALL SAINTS CHURCH\, Church Street\, Bingham\, Nottinghamshire\, NG13 8AL\, United Kingdom
CATEGORIES:OneLIFEmission
END:VEVENT
BEGIN:VEVENT
DTSTART;TZID=Europe/London:20190914T193000
DTEND;TZID=Europe/London:20190914T220000
DTSTAMP:20260423T122122
CREATED:20190801T213944Z
LAST-MODIFIED:20190820T180627Z
UID:2144-1568489400-1568498400@binghamparishchurch.org.uk
SUMMARY:Quiz Night at the Bowls Club
DESCRIPTION:Members of St Mary and All Saints parish church in Bingham invite you to a QUIZ NIGHT on at Bingham Bowls Club. \nTeams of 6 people. \nTo enter a team or for more information please contact Wendy via email:  Email Wendy \nGuest speaker: Rev’d Mark Ashcroft\, Bishop of Bolton \nA bar and light refreshments will be available
URL:https://binghamparishchurch.org.uk/event/quiz-night-at-the-bowls-club/
LOCATION:Bingham Bowls Club\, The Dove Cote\, Long Acre\, Bingham\, Notts\, NG13 8AH\, United Kingdom
CATEGORIES:OneLIFEmission
END:VEVENT
BEGIN:VEVENT
DTSTART;VALUE=DATE:20190914
DTEND;VALUE=DATE:20190915
DTSTAMP:20260423T122122
CREATED:20190801T214359Z
LAST-MODIFIED:20190820T184356Z
UID:2146-1568419200-1568505599@binghamparishchurch.org.uk
SUMMARY:Prayer Walk through the Deanery
DESCRIPTION:There is to be a Prayer Walk through the Deanery on Saturday 14th September 2019 \nStarting at 9.30am with bacon cobs at Kinoulton\, then via Owthorpe to Cropwell Bishop for lunch and a short service\, ending at Cotgrave for tea and evening prayer. \nMore details are available on the Deanery Walk Poster
URL:https://binghamparishchurch.org.uk/event/prayer-walk-through-the-deanery/
LOCATION:Nottinghamshire
CATEGORIES:OneLIFEmission
END:VEVENT
BEGIN:VEVENT
DTSTART;VALUE=DATE:20190912
DTEND;VALUE=DATE:20190916
DTSTAMP:20260423T122122
CREATED:20190525T174417Z
LAST-MODIFIED:20190820T184248Z
UID:1744-1568246400-1568591999@binghamparishchurch.org.uk
SUMMARY:OneLIFE Mission
DESCRIPTION:  \n12th to 15th September 2019 Bishops’ Mission\, led by the Archbishop of York. \nFor more information please see: https://southwell.anglican.org/onelife-mission-2019/ \nDownload a copy of the Deanery oneLife Booklet of events \nOneLife Prayer: \nA prayer for OneLIFE\nWe pray for the One LIFE Mission with the Archbishop of York and all the northern Bishops.\n\nFather God\, help us to reach out in faith and love and witness to all. By your Spirit help us grow in unity\, grow as followers of Jesus Christ\, and grow your Kingdom in Southwell & Nottingham. Amen\n#oneLIFEmission
URL:https://binghamparishchurch.org.uk/event/onelife-mission/
LOCATION:ST MARY & ALL SAINTS CHURCH\, Church Street\, Bingham\, Nottinghamshire\, NG13 8AL\, United Kingdom
CATEGORIES:OneLIFEmission
END:VEVENT
END:VCALENDAR