BEGIN:VCALENDAR
VERSION:2.0
PRODID:-//Welcome to St Mary and All Saints - ECPv6.15.20//NONSGML v1.0//EN
CALSCALE:GREGORIAN
METHOD:PUBLISH
X-ORIGINAL-URL:https://binghamparishchurch.org.uk
X-WR-CALDESC:Events for Welcome to St Mary and All Saints
REFRESH-INTERVAL;VALUE=DURATION:PT1H
X-Robots-Tag:noindex
X-PUBLISHED-TTL:PT1H
BEGIN:VTIMEZONE
TZID:Europe/London
BEGIN:DAYLIGHT
TZOFFSETFROM:+0000
TZOFFSETTO:+0100
TZNAME:BST
DTSTART:20180325T010000
END:DAYLIGHT
BEGIN:STANDARD
TZOFFSETFROM:+0100
TZOFFSETTO:+0000
TZNAME:GMT
DTSTART:20181028T010000
END:STANDARD
BEGIN:DAYLIGHT
TZOFFSETFROM:+0000
TZOFFSETTO:+0100
TZNAME:BST
DTSTART:20190331T010000
END:DAYLIGHT
BEGIN:STANDARD
TZOFFSETFROM:+0100
TZOFFSETTO:+0000
TZNAME:GMT
DTSTART:20191027T010000
END:STANDARD
BEGIN:DAYLIGHT
TZOFFSETFROM:+0000
TZOFFSETTO:+0100
TZNAME:BST
DTSTART:20200329T010000
END:DAYLIGHT
BEGIN:STANDARD
TZOFFSETFROM:+0100
TZOFFSETTO:+0000
TZNAME:GMT
DTSTART:20201025T010000
END:STANDARD
BEGIN:DAYLIGHT
TZOFFSETFROM:+0000
TZOFFSETTO:+0100
TZNAME:BST
DTSTART:20210328T010000
END:DAYLIGHT
BEGIN:STANDARD
TZOFFSETFROM:+0100
TZOFFSETTO:+0000
TZNAME:GMT
DTSTART:20211031T010000
END:STANDARD
END:VTIMEZONE
BEGIN:VEVENT
DTSTART;TZID=Europe/London:20200413T140000
DTEND;TZID=Europe/London:20200413T140000
DTSTAMP:20260421T031703
CREATED:20200221T215911Z
LAST-MODIFIED:20200221T215924Z
UID:3144-1586786400-1586786400@binghamparishchurch.org.uk
SUMMARY:No Mothers' Union Meeting today
DESCRIPTION:No Mothers’ Union Meeting this month
URL:https://binghamparishchurch.org.uk/event/no-mothers-union-meeting-today/
CATEGORIES:Mothers' Union
END:VEVENT
BEGIN:VEVENT
DTSTART;TZID=Europe/London:20200309T140000
DTEND;TZID=Europe/London:20200309T160000
DTSTAMP:20260421T031703
CREATED:20200221T215803Z
LAST-MODIFIED:20200221T215803Z
UID:3142-1583762400-1583769600@binghamparishchurch.org.uk
SUMMARY:Mothers' Union
DESCRIPTION:Stations of the Cross
URL:https://binghamparishchurch.org.uk/event/mothers-union-7/
LOCATION:Old Church House\, East Street\, Bingham\, NG13 8DR
CATEGORIES:Mothers' Union
END:VEVENT
BEGIN:VEVENT
DTSTART;TZID=Europe/London:20200210T140000
DTEND;TZID=Europe/London:20200210T160000
DTSTAMP:20260421T031703
CREATED:20200201T183554Z
LAST-MODIFIED:20200201T183554Z
UID:3013-1581343200-1581350400@binghamparishchurch.org.uk
SUMMARY:Mothers' Union
DESCRIPTION:Mothers’ Union meeting \nThe speaker will be the Revd. Martin Smithson\, minister of Bingham Methodist Church\, who will be talking about his life and ministry.
URL:https://binghamparishchurch.org.uk/event/mothers-union-6/
LOCATION:Old Church House\, East Street\, Bingham\, NG13 8DR
CATEGORIES:Mothers' Union
END:VEVENT
BEGIN:VEVENT
DTSTART;TZID=Europe/London:20200113T140000
DTEND;TZID=Europe/London:20200113T160000
DTSTAMP:20260421T031703
CREATED:20200104T192315Z
LAST-MODIFIED:20200104T192328Z
UID:2916-1578924000-1578931200@binghamparishchurch.org.uk
SUMMARY:Mothers' Union Meeting
DESCRIPTION:Mothers’ Union meeting in Old Church House
URL:https://binghamparishchurch.org.uk/event/mothers-union-meeting-4/
LOCATION:Old Church House\, East Street\, Bingham\, NG13 8DR
CATEGORIES:Mothers' Union
END:VEVENT
BEGIN:VEVENT
DTSTART;TZID=Europe/London:20191111T140000
DTEND;TZID=Europe/London:20191111T160000
DTSTAMP:20260421T031703
CREATED:20191030T125227Z
LAST-MODIFIED:20191030T125227Z
UID:2612-1573480800-1573488000@binghamparishchurch.org.uk
SUMMARY:Mothers' Union
DESCRIPTION:Mothers Union\nOur next meeting at Old Church House on Monday November 11th at 2.00pm will take the form of Helping Hands. \nFirst\, we will assist Jen with a display board for 16 days of Activism to be displayed in church from November 25th until December 10th. \nSecondly\, we will help Eunice and Marilyn with ideas and finishing objects for our Christmas tree at the Christmas Tree Festival. Our theme for the tree is Away From It All Hholidays in Mablethorpe.
URL:https://binghamparishchurch.org.uk/event/mothers-union-5/
LOCATION:Old Church House\, East Street\, Bingham\, NG13 8DR
CATEGORIES:Mothers' Union
END:VEVENT
BEGIN:VEVENT
DTSTART;TZID=Europe/London:20191014T140000
DTEND;TZID=Europe/London:20191014T160000
DTSTAMP:20260421T031703
CREATED:20190921T214233Z
LAST-MODIFIED:20191005T101754Z
UID:2391-1571061600-1571068800@binghamparishchurch.org.uk
SUMMARY:Mothers' Union Meeting
DESCRIPTION:Mothers’ Union Meeting \nOld Church House at 2pm.\nMaria Wright will be speaking about her former work in Lincolnshire Social Services. \nAll are welcome.
URL:https://binghamparishchurch.org.uk/event/mothers-union-meeting-3/
LOCATION:Old Church House\, East Street\, Bingham\, NG13 8DR
CATEGORIES:Mothers' Union
END:VEVENT
BEGIN:VEVENT
DTSTART;TZID=Europe/London:20190909T140000
DTEND;TZID=Europe/London:20190909T160000
DTSTAMP:20260421T031703
CREATED:20190820T192721Z
LAST-MODIFIED:20190831T195634Z
UID:2276-1568037600-1568044800@binghamparishchurch.org.uk
SUMMARY:Mothers' Union
DESCRIPTION:Mothers’ Union meeting – Information from Butter Cross magazine: \nOur next meeting will take place in Old Church House on September 9th at 2.00pm. Our speaker will be Shelagh Baird-Smith and her talk will be “Special Holidays – Uganda”. \nAt the end of the meeting copies of the Wave of Prayer service will be given out. We won’t meet in church for this on September 18th as originally intended\, instead\, you can read the information at home. Extra copies can be made available if required.
URL:https://binghamparishchurch.org.uk/event/mothers-union-4/
LOCATION:Old Church House\, East Street\, Bingham\, NG13 8DR
CATEGORIES:Mothers' Union
END:VEVENT
END:VCALENDAR