BEGIN:VCALENDAR
VERSION:2.0
PRODID:-//Welcome to St Mary and All Saints - ECPv6.15.20//NONSGML v1.0//EN
CALSCALE:GREGORIAN
METHOD:PUBLISH
X-ORIGINAL-URL:https://binghamparishchurch.org.uk
X-WR-CALDESC:Events for Welcome to St Mary and All Saints
REFRESH-INTERVAL;VALUE=DURATION:PT1H
X-Robots-Tag:noindex
X-PUBLISHED-TTL:PT1H
BEGIN:VTIMEZONE
TZID:Europe/London
BEGIN:DAYLIGHT
TZOFFSETFROM:+0000
TZOFFSETTO:+0100
TZNAME:BST
DTSTART:20190331T010000
END:DAYLIGHT
BEGIN:STANDARD
TZOFFSETFROM:+0100
TZOFFSETTO:+0000
TZNAME:GMT
DTSTART:20191027T010000
END:STANDARD
BEGIN:DAYLIGHT
TZOFFSETFROM:+0000
TZOFFSETTO:+0100
TZNAME:BST
DTSTART:20200329T010000
END:DAYLIGHT
BEGIN:STANDARD
TZOFFSETFROM:+0100
TZOFFSETTO:+0000
TZNAME:GMT
DTSTART:20201025T010000
END:STANDARD
BEGIN:DAYLIGHT
TZOFFSETFROM:+0000
TZOFFSETTO:+0100
TZNAME:BST
DTSTART:20210328T010000
END:DAYLIGHT
BEGIN:STANDARD
TZOFFSETFROM:+0100
TZOFFSETTO:+0000
TZNAME:GMT
DTSTART:20211031T010000
END:STANDARD
END:VTIMEZONE
BEGIN:VEVENT
DTSTART;TZID=Europe/London:20200829T110000
DTEND;TZID=Europe/London:20200829T120000
DTSTAMP:20260420T213134
CREATED:20200815T174628Z
LAST-MODIFIED:20200815T174628Z
UID:4059-1598698800-1598702400@binghamparishchurch.org.uk
SUMMARY:Gift Day at Church
DESCRIPTION:More information about our Gift Days \nDue to current government and Church of England restrictions you’ll notice that services will be very different.  One of the issues is that hymn books\, Bible’s and service sheets won’t be allowed. \nAs a result\, the PCC are looking at having two large LED screens mounted on movable stands as an obvious solution\, not only because of the current situation but also to give us more scope in the future. \nLED displays are becoming more common in churches as they offer advantages over a projection system such as: \n\nText can be read from a greater distance on a smaller screen due to the high contrast and brightness levels\nThere is no filter or lamp to change\nLess fixing to the fabric of the building\nAnd a more flexible solution\n\nIf you would like to be a part of this exciting opportunity\, we are asking church members if they would prayerfully consider contributing towards the overall cost of around £5000. \nI think this is a wonderful opportunity to develop our services and give us more flexibility as we Love God\, Share Christ\, and Serve One Another\, in line with the diocesan vision of Growing Disciples Wider\, Younger\, Deeper. \nIf you would like to donate towards this exciting project we are having two Gift Days\, Thursday August 20th and Saturday August 29th between 11am and 12pm at church\, where you can drop off any donations/pledges (large or small)\, to a team of people who will be available. Donations can also be made before or after these dates by contacting our Rector\, Jon\, for more information.  Contact details at the bottom of this page. \nThank you
URL:https://binghamparishchurch.org.uk/event/gift-day-at-church-2020-08-29/
CATEGORIES:Church Event,Church News,Fundraising
END:VEVENT
BEGIN:VEVENT
DTSTART;TZID=Europe/London:20200820T110000
DTEND;TZID=Europe/London:20200820T120000
DTSTAMP:20260420T213134
CREATED:20200815T174628Z
LAST-MODIFIED:20200815T174628Z
UID:4057-1597921200-1597924800@binghamparishchurch.org.uk
SUMMARY:Gift Day at Church
DESCRIPTION:More information about our Gift Days \nDue to current government and Church of England restrictions you’ll notice that services will be very different.  One of the issues is that hymn books\, Bible’s and service sheets won’t be allowed. \nAs a result\, the PCC are looking at having two large LED screens mounted on movable stands as an obvious solution\, not only because of the current situation but also to give us more scope in the future. \nLED displays are becoming more common in churches as they offer advantages over a projection system such as: \n\nText can be read from a greater distance on a smaller screen due to the high contrast and brightness levels\nThere is no filter or lamp to change\nLess fixing to the fabric of the building\nAnd a more flexible solution\n\nIf you would like to be a part of this exciting opportunity\, we are asking church members if they would prayerfully consider contributing towards the overall cost of around £5000. \nI think this is a wonderful opportunity to develop our services and give us more flexibility as we Love God\, Share Christ\, and Serve One Another\, in line with the diocesan vision of Growing Disciples Wider\, Younger\, Deeper. \nIf you would like to donate towards this exciting project we are having two Gift Days\, Thursday August 20th and Saturday August 29th between 11am and 12pm at church\, where you can drop off any donations/pledges (large or small)\, to a team of people who will be available. Donations can also be made before or after these dates by contacting our Rector\, Jon\, for more information.  Contact details at the bottom of this page. \nThank you
URL:https://binghamparishchurch.org.uk/event/gift-day-at-church/
CATEGORIES:Church Event,Church News,Fundraising
END:VEVENT
BEGIN:VEVENT
DTSTART;VALUE=DATE:20200714
DTEND;VALUE=DATE:20200715
DTSTAMP:20260420T213134
CREATED:20200705T133506Z
LAST-MODIFIED:20200705T133635Z
UID:3894-1594684800-1594771199@binghamparishchurch.org.uk
SUMMARY:Head Shave for Bingham Church and Rosie May
DESCRIPTION:Jane Best – Fundraising\nPlease support Jane\, as she has her head shaved and raising money for our Parish Church and the Rosie May Foundation. \nhttps://www.gofundme.com/f/head-shave-for-bingham-church-and-rosie-may
URL:https://binghamparishchurch.org.uk/event/head-shave-for-bingham-church-and-rosie-may/
CATEGORIES:Church News,Fundraising
END:VEVENT
END:VCALENDAR