BEGIN:VCALENDAR
VERSION:2.0
PRODID:-//Welcome to St Mary and All Saints - ECPv6.15.20//NONSGML v1.0//EN
CALSCALE:GREGORIAN
METHOD:PUBLISH
X-ORIGINAL-URL:https://binghamparishchurch.org.uk
X-WR-CALDESC:Events for Welcome to St Mary and All Saints
REFRESH-INTERVAL;VALUE=DURATION:PT1H
X-Robots-Tag:noindex
X-PUBLISHED-TTL:PT1H
BEGIN:VTIMEZONE
TZID:Europe/London
BEGIN:DAYLIGHT
TZOFFSETFROM:+0000
TZOFFSETTO:+0100
TZNAME:BST
DTSTART:20200329T010000
END:DAYLIGHT
BEGIN:STANDARD
TZOFFSETFROM:+0100
TZOFFSETTO:+0000
TZNAME:GMT
DTSTART:20201025T010000
END:STANDARD
BEGIN:DAYLIGHT
TZOFFSETFROM:+0000
TZOFFSETTO:+0100
TZNAME:BST
DTSTART:20210328T010000
END:DAYLIGHT
BEGIN:STANDARD
TZOFFSETFROM:+0100
TZOFFSETTO:+0000
TZNAME:GMT
DTSTART:20211031T010000
END:STANDARD
BEGIN:DAYLIGHT
TZOFFSETFROM:+0000
TZOFFSETTO:+0100
TZNAME:BST
DTSTART:20220327T010000
END:DAYLIGHT
BEGIN:STANDARD
TZOFFSETFROM:+0100
TZOFFSETTO:+0000
TZNAME:GMT
DTSTART:20221030T010000
END:STANDARD
END:VTIMEZONE
BEGIN:VEVENT
DTSTART;TZID=Europe/London:20211205T090000
DTEND;TZID=Europe/London:20211205T093000
DTSTAMP:20260426T032846
CREATED:20210725T133647Z
LAST-MODIFIED:20211106T212651Z
UID:5489-1638694800-1638696600@binghamparishchurch.org.uk
SUMMARY:Traditional Communion service
DESCRIPTION:Traditional Communion service on Sundays\, first to fourth\, every month at 9.00am. It will have congregational hymns – mainly traditional – with organ accompaniment.
URL:https://binghamparishchurch.org.uk/event/traditional-communion-service-2021-12-05/
LOCATION:ST MARY & ALL SAINTS CHURCH\, Church Street\, Bingham\, Nottinghamshire\, NG13 8AL\, United Kingdom
CATEGORIES:Church Services
ATTACH;FMTTYPE=image/jpeg:https://binghamparishchurch.org.uk/wp-content/uploads/2021/07/james-coleman-_HzRfyw7BuA-unsplash-scaled.jpg
END:VEVENT
BEGIN:VEVENT
DTSTART;TZID=Europe/London:20211205T103000
DTEND;TZID=Europe/London:20211205T113000
DTSTAMP:20260426T032846
CREATED:20211106T211333Z
LAST-MODIFIED:20211106T211400Z
UID:5509-1638700200-1638703800@binghamparishchurch.org.uk
SUMMARY:Contemporary Family Friendly Service
DESCRIPTION:2nd Sunday of Advent \nContemporary Family Friendly Service. On the 4th Sunday of every month\, Communion will be celebrated at this service. \nYou are also welcome to continue our church fellowship\, with tea\, coffee and biscuits after the service.
URL:https://binghamparishchurch.org.uk/event/contemporary-family-friendly-service-3/
LOCATION:ST MARY & ALL SAINTS CHURCH\, Church Street\, Bingham\, Nottinghamshire\, NG13 8AL\, United Kingdom
CATEGORIES:Advent,Church Services
ATTACH;FMTTYPE=image/jpeg:https://binghamparishchurch.org.uk/wp-content/uploads/2020/12/2020-12-06-Advent-candles.jpg
END:VEVENT
BEGIN:VEVENT
DTSTART;TZID=Europe/London:20211212T090000
DTEND;TZID=Europe/London:20211212T093000
DTSTAMP:20260426T032846
CREATED:20210725T133647Z
LAST-MODIFIED:20211106T212651Z
UID:5490-1639299600-1639301400@binghamparishchurch.org.uk
SUMMARY:Traditional Communion service
DESCRIPTION:Traditional Communion service on Sundays\, first to fourth\, every month at 9.00am. It will have congregational hymns – mainly traditional – with organ accompaniment.
URL:https://binghamparishchurch.org.uk/event/traditional-communion-service-2021-12-12/
LOCATION:ST MARY & ALL SAINTS CHURCH\, Church Street\, Bingham\, Nottinghamshire\, NG13 8AL\, United Kingdom
CATEGORIES:Church Services
ATTACH;FMTTYPE=image/jpeg:https://binghamparishchurch.org.uk/wp-content/uploads/2021/07/james-coleman-_HzRfyw7BuA-unsplash-scaled.jpg
END:VEVENT
BEGIN:VEVENT
DTSTART;TZID=Europe/London:20211212T103000
DTEND;TZID=Europe/London:20211212T113000
DTSTAMP:20260426T032846
CREATED:20211106T211703Z
LAST-MODIFIED:20211106T211740Z
UID:5511-1639305000-1639308600@binghamparishchurch.org.uk
SUMMARY:Contemporary Family Friendly Service
DESCRIPTION:3rd Sunday of Advent \nContemporary Family Friendly Service. On the 4th Sunday of every month\, Communion will be celebrated at this service. \nYou are also welcome to continue our church fellowship\, with tea\, coffee and biscuits after the service.
URL:https://binghamparishchurch.org.uk/event/contemporary-family-friendly-service-4/
LOCATION:ST MARY & ALL SAINTS CHURCH\, Church Street\, Bingham\, Nottinghamshire\, NG13 8AL\, United Kingdom
CATEGORIES:Advent,Church Services
ATTACH;FMTTYPE=image/jpeg:https://binghamparishchurch.org.uk/wp-content/uploads/2020/12/2020-12-13-Advent-3.jpg
END:VEVENT
BEGIN:VEVENT
DTSTART;TZID=Europe/London:20211212T160000
DTEND;TZID=Europe/London:20211212T170000
DTSTAMP:20260426T032846
CREATED:20211106T182932Z
LAST-MODIFIED:20211106T193011Z
UID:5418-1639324800-1639328400@binghamparishchurch.org.uk
SUMMARY:Christingle Service
DESCRIPTION:Please join us for our Christingle Service\, we’d love to celebrate with you. \n 
URL:https://binghamparishchurch.org.uk/event/christingle-service-2/
LOCATION:ST MARY & ALL SAINTS CHURCH\, Church Street\, Bingham\, Nottinghamshire\, NG13 8AL\, United Kingdom
CATEGORIES:Church Event,Church Services
ATTACH;FMTTYPE=image/jpeg:https://binghamparishchurch.org.uk/wp-content/uploads/2019/12/Christingle-Photo-01-web-scaled.jpg
END:VEVENT
BEGIN:VEVENT
DTSTART;TZID=Europe/London:20211216T190000
DTEND;TZID=Europe/London:20211216T203000
DTSTAMP:20260426T032846
CREATED:20211106T184010Z
LAST-MODIFIED:20211106T222537Z
UID:5423-1639681200-1639686600@binghamparishchurch.org.uk
SUMMARY:Christmas Carol Service
DESCRIPTION:Welcome to our annual carol service\, join us as part of our Christmas events to sing a selection of favourite Christmas Carols. \nWe will continue our Christmas fellowship with wine and mince pies.
URL:https://binghamparishchurch.org.uk/event/christmas-carol-service-2/
LOCATION:ST MARY & ALL SAINTS CHURCH\, Church Street\, Bingham\, Nottinghamshire\, NG13 8AL\, United Kingdom
CATEGORIES:Christmas,Church Services
ATTACH;FMTTYPE=image/jpeg:https://binghamparishchurch.org.uk/wp-content/uploads/2021/11/pexels-matthias-cooper-1649437-scaled.jpg
END:VEVENT
BEGIN:VEVENT
DTSTART;TZID=Europe/London:20211219T090000
DTEND;TZID=Europe/London:20211219T093000
DTSTAMP:20260426T032846
CREATED:20210725T133647Z
LAST-MODIFIED:20211106T212651Z
UID:5491-1639904400-1639906200@binghamparishchurch.org.uk
SUMMARY:Traditional Communion service
DESCRIPTION:Traditional Communion service on Sundays\, first to fourth\, every month at 9.00am. It will have congregational hymns – mainly traditional – with organ accompaniment.
URL:https://binghamparishchurch.org.uk/event/traditional-communion-service-2021-12-19/
LOCATION:ST MARY & ALL SAINTS CHURCH\, Church Street\, Bingham\, Nottinghamshire\, NG13 8AL\, United Kingdom
CATEGORIES:Church Services
ATTACH;FMTTYPE=image/jpeg:https://binghamparishchurch.org.uk/wp-content/uploads/2021/07/james-coleman-_HzRfyw7BuA-unsplash-scaled.jpg
END:VEVENT
BEGIN:VEVENT
DTSTART;TZID=Europe/London:20211219T103000
DTEND;TZID=Europe/London:20211219T113000
DTSTAMP:20260426T032846
CREATED:20211106T212125Z
LAST-MODIFIED:20211106T212125Z
UID:5513-1639909800-1639913400@binghamparishchurch.org.uk
SUMMARY:Contemporary Family Friendly Service
DESCRIPTION:4th Sunday of Advent – Contemporary Family Friendly Service. \nYou are also welcome to continue our church fellowship\, with tea\, coffee and biscuits after the service.
URL:https://binghamparishchurch.org.uk/event/contemporary-family-friendly-service-5/
LOCATION:ST MARY & ALL SAINTS CHURCH\, Church Street\, Bingham\, Nottinghamshire\, NG13 8AL\, United Kingdom
CATEGORIES:Advent,Church Services
ATTACH;FMTTYPE=image/jpeg:https://binghamparishchurch.org.uk/wp-content/uploads/2020/12/2020-12-20-Advent-4.jpg
END:VEVENT
BEGIN:VEVENT
DTSTART;TZID=Europe/London:20211224T160000
DTEND;TZID=Europe/London:20211224T170000
DTSTAMP:20260426T032846
CREATED:20211106T184647Z
LAST-MODIFIED:20211217T140856Z
UID:5426-1640361600-1640365200@binghamparishchurch.org.uk
SUMMARY:Cancelled - Crib Service
DESCRIPTION:Due to the current COVID-19 situation it has been decided to cancel this service.
URL:https://binghamparishchurch.org.uk/event/crib-service/
LOCATION:ST MARY & ALL SAINTS CHURCH\, Church Street\, Bingham\, Nottinghamshire\, NG13 8AL\, United Kingdom
CATEGORIES:Christmas,Church Services
ATTACH;FMTTYPE=image/jpeg:https://binghamparishchurch.org.uk/wp-content/uploads/2021/11/pexels-thewonderoflife-6140342-scaled.jpg
END:VEVENT
BEGIN:VEVENT
DTSTART;TZID=Europe/London:20211224T231500
DTEND;TZID=Europe/London:20211225T003000
DTSTAMP:20260426T032846
CREATED:20211106T185731Z
LAST-MODIFIED:20211106T185731Z
UID:5430-1640387700-1640392200@binghamparishchurch.org.uk
SUMMARY:Midnight Communion
DESCRIPTION:Please join us for our midnight communion service as we celebrate the birth of Jesus.
URL:https://binghamparishchurch.org.uk/event/midnight-communion-2/
LOCATION:ST MARY & ALL SAINTS CHURCH\, Church Street\, Bingham\, Nottinghamshire\, NG13 8AL\, United Kingdom
CATEGORIES:Christmas,Church Services,Holy Communion
ATTACH;FMTTYPE=image/jpeg:https://binghamparishchurch.org.uk/wp-content/uploads/2021/11/pexels-vinicius-vieira-ft-3355002-scaled.jpg
END:VEVENT
BEGIN:VEVENT
DTSTART;TZID=Europe/London:20211225T103000
DTEND;TZID=Europe/London:20211225T113000
DTSTAMP:20260426T032846
CREATED:20211106T190540Z
LAST-MODIFIED:20211106T190620Z
UID:5434-1640428200-1640431800@binghamparishchurch.org.uk
SUMMARY:Christmas Day - Family Worship
DESCRIPTION:Join us on Christmas Day to celebrate the birth of Jesus
URL:https://binghamparishchurch.org.uk/event/christmas-day-family-worship/
LOCATION:Nottinghamshire
CATEGORIES:Christmas,Church Services
ATTACH;FMTTYPE=image/jpeg:https://binghamparishchurch.org.uk/wp-content/uploads/2021/11/pexels-tim-douglas-6211058-scaled.jpg
END:VEVENT
BEGIN:VEVENT
DTSTART;TZID=Europe/London:20211226T090000
DTEND;TZID=Europe/London:20211226T093000
DTSTAMP:20260426T032846
CREATED:20211106T223418Z
LAST-MODIFIED:20211106T223502Z
UID:5555-1640509200-1640511000@binghamparishchurch.org.uk
SUMMARY:Said Communion Service
DESCRIPTION:Please join us at 9am on for a said service of Communion.
URL:https://binghamparishchurch.org.uk/event/said-communion-service/
LOCATION:ST MARY & ALL SAINTS CHURCH\, Church Street\, Bingham\, Nottinghamshire\, NG13 8AL\, United Kingdom
CATEGORIES:Christmas,Church Services
ATTACH;FMTTYPE=image/jpeg:https://binghamparishchurch.org.uk/wp-content/uploads/2021/07/james-coleman-_HzRfyw7BuA-unsplash-scaled.jpg
END:VEVENT
END:VCALENDAR