BEGIN:VCALENDAR
VERSION:2.0
PRODID:-//Welcome to St Mary and All Saints - ECPv6.15.20//NONSGML v1.0//EN
CALSCALE:GREGORIAN
METHOD:PUBLISH
X-WR-CALNAME:Welcome to St Mary and All Saints
X-ORIGINAL-URL:https://binghamparishchurch.org.uk
X-WR-CALDESC:Events for Welcome to St Mary and All Saints
REFRESH-INTERVAL;VALUE=DURATION:PT1H
X-Robots-Tag:noindex
X-PUBLISHED-TTL:PT1H
BEGIN:VTIMEZONE
TZID:Europe/London
BEGIN:DAYLIGHT
TZOFFSETFROM:+0000
TZOFFSETTO:+0100
TZNAME:BST
DTSTART:20210328T010000
END:DAYLIGHT
BEGIN:STANDARD
TZOFFSETFROM:+0100
TZOFFSETTO:+0000
TZNAME:GMT
DTSTART:20211031T010000
END:STANDARD
BEGIN:DAYLIGHT
TZOFFSETFROM:+0000
TZOFFSETTO:+0100
TZNAME:BST
DTSTART:20220327T010000
END:DAYLIGHT
BEGIN:STANDARD
TZOFFSETFROM:+0100
TZOFFSETTO:+0000
TZNAME:GMT
DTSTART:20221030T010000
END:STANDARD
BEGIN:DAYLIGHT
TZOFFSETFROM:+0000
TZOFFSETTO:+0100
TZNAME:BST
DTSTART:20230326T010000
END:DAYLIGHT
BEGIN:STANDARD
TZOFFSETFROM:+0100
TZOFFSETTO:+0000
TZNAME:GMT
DTSTART:20231029T010000
END:STANDARD
END:VTIMEZONE
BEGIN:VEVENT
DTSTART;TZID=Europe/London:20220326T100000
DTEND;TZID=Europe/London:20220326T120000
DTSTAMP:20260424T022853
CREATED:20220302T204723Z
LAST-MODIFIED:20220302T204723Z
UID:5946-1648288800-1648296000@binghamparishchurch.org.uk
SUMMARY:Flowers for Mothering Sunday
DESCRIPTION:If you are passing through the Church Yard on Saturday\, 26th\, March 2022 between 10am and 12noon\, members of the church congregation will be giving away flowers for Mothering Sunday.
URL:https://binghamparishchurch.org.uk/event/flowers-for-mothering-sunday/
LOCATION:ST MARY & ALL SAINTS CHURCH\, Church Street\, Bingham\, Nottinghamshire\, NG13 8AL\, United Kingdom
CATEGORIES:Church Event,Church News
ATTACH;FMTTYPE=image/jpeg:https://binghamparishchurch.org.uk/wp-content/uploads/2021/03/155399549_454910472589567_9066607114606475043_n-scaled.jpg
END:VEVENT
END:VCALENDAR