BEGIN:VCALENDAR
VERSION:2.0
PRODID:-//Welcome to St Mary and All Saints - ECPv6.15.20//NONSGML v1.0//EN
CALSCALE:GREGORIAN
METHOD:PUBLISH
X-ORIGINAL-URL:https://binghamparishchurch.org.uk
X-WR-CALDESC:Events for Welcome to St Mary and All Saints
REFRESH-INTERVAL;VALUE=DURATION:PT1H
X-Robots-Tag:noindex
X-PUBLISHED-TTL:PT1H
BEGIN:VTIMEZONE
TZID:Europe/London
BEGIN:DAYLIGHT
TZOFFSETFROM:+0000
TZOFFSETTO:+0100
TZNAME:BST
DTSTART:20210328T010000
END:DAYLIGHT
BEGIN:STANDARD
TZOFFSETFROM:+0100
TZOFFSETTO:+0000
TZNAME:GMT
DTSTART:20211031T010000
END:STANDARD
BEGIN:DAYLIGHT
TZOFFSETFROM:+0000
TZOFFSETTO:+0100
TZNAME:BST
DTSTART:20220327T010000
END:DAYLIGHT
BEGIN:STANDARD
TZOFFSETFROM:+0100
TZOFFSETTO:+0000
TZNAME:GMT
DTSTART:20221030T010000
END:STANDARD
BEGIN:DAYLIGHT
TZOFFSETFROM:+0000
TZOFFSETTO:+0100
TZNAME:BST
DTSTART:20230326T010000
END:DAYLIGHT
BEGIN:STANDARD
TZOFFSETFROM:+0100
TZOFFSETTO:+0000
TZNAME:GMT
DTSTART:20231029T010000
END:STANDARD
END:VTIMEZONE
BEGIN:VEVENT
DTSTART;TZID=Europe/London:20220322T140000
DTEND;TZID=Europe/London:20220322T160000
DTSTAMP:20260424T022952
CREATED:20220128T201251Z
LAST-MODIFIED:20220128T202025Z
UID:5882-1647957600-1647964800@binghamparishchurch.org.uk
SUMMARY:Snack and Natter
DESCRIPTION:Due to the current coronavirus situation\, Snack and Natter is provisionally planned to restart on the 22th March 2022
URL:https://binghamparishchurch.org.uk/event/snack-and-natter-51/
LOCATION:Old Church House\, East Street\, Bingham\, NG13 8DR
CATEGORIES:Church Event,Church News
ATTACH;FMTTYPE=image/jpeg:https://binghamparishchurch.org.uk/wp-content/uploads/2019/02/IMG_0110.jpg
END:VEVENT
END:VCALENDAR