BEGIN:VCALENDAR
VERSION:2.0
PRODID:-//Welcome to St Mary and All Saints - ECPv6.15.20//NONSGML v1.0//EN
CALSCALE:GREGORIAN
METHOD:PUBLISH
X-WR-CALNAME:Welcome to St Mary and All Saints
X-ORIGINAL-URL:https://binghamparishchurch.org.uk
X-WR-CALDESC:Events for Welcome to St Mary and All Saints
REFRESH-INTERVAL;VALUE=DURATION:PT1H
X-Robots-Tag:noindex
X-PUBLISHED-TTL:PT1H
BEGIN:VTIMEZONE
TZID:Europe/London
BEGIN:DAYLIGHT
TZOFFSETFROM:+0000
TZOFFSETTO:+0100
TZNAME:BST
DTSTART:20210328T010000
END:DAYLIGHT
BEGIN:STANDARD
TZOFFSETFROM:+0100
TZOFFSETTO:+0000
TZNAME:GMT
DTSTART:20211031T010000
END:STANDARD
BEGIN:DAYLIGHT
TZOFFSETFROM:+0000
TZOFFSETTO:+0100
TZNAME:BST
DTSTART:20220327T010000
END:DAYLIGHT
BEGIN:STANDARD
TZOFFSETFROM:+0100
TZOFFSETTO:+0000
TZNAME:GMT
DTSTART:20221030T010000
END:STANDARD
BEGIN:DAYLIGHT
TZOFFSETFROM:+0000
TZOFFSETTO:+0100
TZNAME:BST
DTSTART:20230326T010000
END:DAYLIGHT
BEGIN:STANDARD
TZOFFSETFROM:+0100
TZOFFSETTO:+0000
TZNAME:GMT
DTSTART:20231029T010000
END:STANDARD
END:VTIMEZONE
BEGIN:VEVENT
DTSTART;TZID=Europe/London:20220305T193000
DTEND;TZID=Europe/London:20220305T220000
DTSTAMP:20260424T022856
CREATED:20211106T174737Z
LAST-MODIFIED:20211106T174737Z
UID:5398-1646508600-1646517600@binghamparishchurch.org.uk
SUMMARY:Bingham Community Arts Committee  - Concert
DESCRIPTION:From Steven Halls\, Bingham Community Arts Committee (BCAC) \nMany of you attended a concert October 2019 in Bingham Church featuring the Wiltshire violinist\, Daphne Moody\, my niece Caroline Halls and my brother\, David\, Director of Music at Salisbury Cathedral.   We “seniors” determined to perform together once more\, so David\, Daphne and I are continuing in Bingham Church our series of piano trios of Antonín Dvořák. \nIn the first half\, we perform Dvořák’s Piano Trio No. 2 in G minor\, op.26.  This is a big work\, lasting over half an hour\, and\, in contrast to the joyous first trio\, its tone is melancholic and nostalgic\, perhaps in consequence of the death of the composer’s daughter Josefa in August 1875.  It appeared within a mere seventeen days in January 1876 and its première was held – with the composer at the piano – on 29 June 1879 at a concert Dvořák gave in Turnov. \nIn the second half\, Daphne and I are joined by my great musical friends Chris Harris\, Anna Maguire\, John Britten and Margaret Chadwick to perform the extraordinarily beautiful and exciting string sextet in D minor\, op.70 Souvenir de Florence by Tchaikovsky.  Another big work\, it is in four movements and the composer found its composition hard:  he told his brother in June 1890\, “I began it three days ago and am writing with difficulty\, not for want of new ideas\, but because of the novelty of the form. One requires six independent yet homogeneous voices. This is unimaginably difficult…. it seems that rather than writing for six voices\, I am\, in essence\, composing for the orchestra\, and only then arranging it for six string instruments.  Whatever the toil\, he triumphed\, writing in July 1890 “At the moment I’m terribly pleased with myself”.  It’s enormous fun to listen to and to perform\, revelling in wildness and glorious melodies. \nTicket information from BCAC (stevenhalls@hotmail.com)
URL:https://binghamparishchurch.org.uk/event/bingham-community-arts-committee-concert/
LOCATION:ST MARY & ALL SAINTS CHURCH\, Church Street\, Bingham\, Nottinghamshire\, NG13 8AL\, United Kingdom
CATEGORIES:Concert
ATTACH;FMTTYPE=image/jpeg:https://binghamparishchurch.org.uk/wp-content/uploads/2021/11/pexels-cottonbro-4033340-scaled.jpg
ORGANIZER;CN="BCAC":MAILTO:stevenhalls@hotmail.com
END:VEVENT
END:VCALENDAR